BEGIN:VCALENDAR
VERSION:2.0
PRODID:-//Zentrika - Centro Comercial - ECPv6.15.15//NONSGML v1.0//EN
CALSCALE:GREGORIAN
METHOD:PUBLISH
X-ORIGINAL-URL:https://www.zentrika.com
X-WR-CALDESC:Eventos para Zentrika - Centro Comercial
REFRESH-INTERVAL;VALUE=DURATION:PT1H
X-Robots-Tag:noindex
X-PUBLISHED-TTL:PT1H
BEGIN:VTIMEZONE
TZID:America/Mexico_City
BEGIN:STANDARD
TZOFFSETFROM:-0600
TZOFFSETTO:-0600
TZNAME:CST
DTSTART:20240101T000000
END:STANDARD
END:VTIMEZONE
BEGIN:VEVENT
DTSTART;TZID=America/Mexico_City:20251204T130000
DTEND;TZID=America/Mexico_City:20251204T150000
DTSTAMP:20260425T084934
CREATED:20251129T224636Z
LAST-MODIFIED:20251129T224636Z
UID:13849-1764853200-1764860400@www.zentrika.com
SUMMARY:Celebra el 2do. Aniversario de Krasa con un café
DESCRIPTION:Con motivo del 2do. Aniversario de Krasa en Zentrika te invitan a degustar un poco de café y celebrar junto a ellos por estos meses de arduo trabajo y bienestar brindado a todos sus clientes. Nos vemos este 4 de diciembre en la media luna de Planta Baja para celebrar juntos.
URL:https://www.zentrika.com/evento/celebra-el-2do-aniversario-de-krasa-con-un-cafe/
LOCATION:Media Luna\, Zentrika
END:VEVENT
END:VCALENDAR