BEGIN:VCALENDAR
VERSION:2.0
PRODID:-//Zentrika - Centro Comercial - ECPv6.15.15//NONSGML v1.0//EN
CALSCALE:GREGORIAN
METHOD:PUBLISH
X-ORIGINAL-URL:https://www.zentrika.com
X-WR-CALDESC:Eventos para Zentrika - Centro Comercial
REFRESH-INTERVAL;VALUE=DURATION:PT1H
X-Robots-Tag:noindex
X-PUBLISHED-TTL:PT1H
BEGIN:VTIMEZONE
TZID:America/Mexico_City
BEGIN:STANDARD
TZOFFSETFROM:-0600
TZOFFSETTO:-0600
TZNAME:CST
DTSTART:20230101T000000
END:STANDARD
END:VTIMEZONE
BEGIN:VEVENT
DTSTART;TZID=America/Mexico_City:20240224T130000
DTEND;TZID=America/Mexico_City:20240224T180000
DTSTAMP:20260423T111807
CREATED:20240219T190528Z
LAST-MODIFIED:20240219T190528Z
UID:11857-1708779600-1708797600@www.zentrika.com
SUMMARY:Ludoteca ZENTRIKA Sábado 24 de Febrero
DESCRIPTION:Ven con tus pequeños\, quienes pueden disfrutar de la Ludoteca ZENTRIKA. Un espacio pensado para su esparcimiento y desarrollo. Desde actividades artísticas como pintar\, hasta videojuegos. Seguro encontrarán algo que les guste y con lo que podrán divertirse en su fin de semana. \nÚnicamente te pedimos seguir estas indicacione: \n\nEl acceso es totalmente gratuito\, el único requisito es venir acompañado de un mayor de edad\, quién hará el registro del menor.\nEl espacio está pensado para niños entre 3 y 10 años.\nEl menor no puede acceder con bebidas y/o alimentos.\nEs indispensable que el menor siga las indicaciones del personal\, de lo contrario el servicio puede verse interrumpido para dicho menor.
URL:https://www.zentrika.com/evento/ludoteca-zentrika-sabado24feb24/
LOCATION:Zona Gourmet\, Ludoteca
CATEGORIES:Actividades infantiles
END:VEVENT
BEGIN:VEVENT
DTSTART;TZID=America/Mexico_City:20240218T130000
DTEND;TZID=America/Mexico_City:20240218T180000
DTSTAMP:20260423T111807
CREATED:20240214T234414Z
LAST-MODIFIED:20240214T234414Z
UID:11825-1708261200-1708279200@www.zentrika.com
SUMMARY:Ludoteca ZENTRIKA Domingo 18 de Febrero
DESCRIPTION:Ven con tus pequeños\, quienes pueden disfrutar de la Ludoteca ZENTRIKA. Un espacio pensado para su esparcimiento y desarrollo. Desde actividades artísticas como pintar\, hasta videojuegos. Seguro encontrarán algo que les guste y con lo que podrán divertirse en su fin de semana. \nÚnicamente te pedimos seguir estas indicacione: \n\nEl acceso es totalmente gratuito\, el único requisito es venir acompañado de un mayor de edad\, quién hará el registro del menor.\nEl espacio está pensado para niños entre 3 y 10 años.\nEl menor no puede acceder con bebidas y/o alimentos.\nEs indispensable que el menor siga las indicaciones del personal\, de lo contrario el servicio puede verse interrumpido para dicho menor.
URL:https://www.zentrika.com/evento/ludoteca-zentrika-domingo18feb24/
LOCATION:Zona Gourmet\, Ludoteca
CATEGORIES:Actividades infantiles
END:VEVENT
BEGIN:VEVENT
DTSTART;TZID=America/Mexico_City:20240217T130000
DTEND;TZID=America/Mexico_City:20240217T180000
DTSTAMP:20260423T111807
CREATED:20240214T234219Z
LAST-MODIFIED:20240215T163641Z
UID:11826-1708174800-1708192800@www.zentrika.com
SUMMARY:Ludoteca ZENTRIKA Sábado 17 de Febrero
DESCRIPTION:Ven con tus pequeños\, quienes pueden disfrutar de la Ludoteca ZENTRIKA. Un espacio pensado para su esparcimiento y desarrollo. Desde actividades artísticas como pintar\, hasta videojuegos. Seguro encontrarán algo que les guste y con lo que podrán divertirse en su fin de semana. \nÚnicamente te pedimos seguir estas indicacione: \n\nEl acceso es totalmente gratuito\, el único requisito es venir acompañado de un mayor de edad\, quién hará el registro del menor.\nEl espacio está pensado para niños entre 3 y 10 años.\nEl menor no puede acceder con bebidas y/o alimentos.\nEs indispensable que el menor siga las indicaciones del personal\, de lo contrario el servicio puede verse interrumpido para dicho menor.
URL:https://www.zentrika.com/evento/ludoteca-zentrika-sabado17feb24/
LOCATION:Zona Gourmet\, Ludoteca
CATEGORIES:Actividades infantiles
END:VEVENT
BEGIN:VEVENT
DTSTART;TZID=America/Mexico_City:20240210T173000
DTEND;TZID=America/Mexico_City:20240210T200000
DTSTAMP:20260423T111807
CREATED:20240207T021143Z
LAST-MODIFIED:20240207T021143Z
UID:11797-1707586200-1707595200@www.zentrika.com
SUMMARY:Exhibición de baile Dance & Fit
DESCRIPTION:Asiste a la exhibición de baile de Dance & Fit\, la Terraza de ZENTRIKA este sábado 10 de febrero \nDance & Fit es el espacio perfecto para ejercitarte y divertirte\, ven y disfruta de esta experiencia totalmente gratis\, lo único necesario es que asistas a la Zona Gourmet de ZENTRIKA en punto de las 5:30 pm. \n¿Qué esperas para cambiar tu vida y tu estado de ánimo? Únete a las clases de la Terraza y dale ese giro que necesitas para comenzar el año de la mejor manera. ¡Te esperamos!
URL:https://www.zentrika.com/evento/exhibiciondanceandfit2024/
LOCATION:Zona Gourmet
CATEGORIES:Eventos Deportivos
END:VEVENT
BEGIN:VEVENT
DTSTART;TZID=America/Mexico_City:20240202T143000
DTEND;TZID=America/Mexico_City:20240202T170000
DTSTAMP:20260423T111807
CREATED:20240127T003953Z
LAST-MODIFIED:20240127T033548Z
UID:11731-1706884200-1706893200@www.zentrika.com
SUMMARY:Exhibición y clase muestra Dance & Fit
DESCRIPTION:Asiste a la exhibición y clase muestra que Dance & Fit\, la Terraza de ZENTRIKA presenta para ti \nUn espacio perfecto para ejercitarte y divertirte\, ven y disfruta de esta experiencia totalmente gratis\, lo único necesario es que asistas a la Zona Gourmet de ZENTRIKA. \n¿Qué esperas para cambiar tu vida y tu estado de ánimo? Únete a las clases de la Terraza y dale ese giro que necesitas para comenzar el año de la mejor manera. ¡Te esperamos!
URL:https://www.zentrika.com/evento/clasemuestradanceandfit2024/
LOCATION:Zona Gourmet
CATEGORIES:Eventos Deportivos
END:VEVENT
END:VCALENDAR