BEGIN:VCALENDAR
VERSION:2.0
PRODID:-//Zentrika - Centro Comercial - ECPv6.15.15//NONSGML v1.0//EN
CALSCALE:GREGORIAN
METHOD:PUBLISH
X-WR-CALNAME:Zentrika - Centro Comercial
X-ORIGINAL-URL:https://www.zentrika.com
X-WR-CALDESC:Eventos para Zentrika - Centro Comercial
REFRESH-INTERVAL;VALUE=DURATION:PT1H
X-Robots-Tag:noindex
X-PUBLISHED-TTL:PT1H
BEGIN:VTIMEZONE
TZID:America/Mexico_City
BEGIN:STANDARD
TZOFFSETFROM:-0600
TZOFFSETTO:-0600
TZNAME:CST
DTSTART:20230101T000000
END:STANDARD
END:VTIMEZONE
BEGIN:VEVENT
DTSTART;TZID=America/Mexico_City:20240901T130000
DTEND;TZID=America/Mexico_City:20240901T180000
DTSTAMP:20260423T081319
CREATED:20240808T220109Z
LAST-MODIFIED:20240808T220109Z
UID:12511-1725195600-1725213600@www.zentrika.com
SUMMARY:Ludoteca ZENTRIKA Domingo 1 de Septiembre
DESCRIPTION:Ven con tus pequeños\, quienes pueden disfrutar de la Ludoteca ZENTRIKA. Un espacio pensado para su esparcimiento y desarrollo. Desde actividades artísticas como pintar\, hasta videojuegos. Seguro encontrarán algo que les guste y con lo que podrán divertirse en su fin de semana. \nÚnicamente te pedimos seguir estas indicaciones: \n\nEl acceso es totalmente gratuito\, el único requisito es venir acompañado de un mayor de edad\, quién hará el registro del menor.\nEl espacio está pensado para niños entre 3 y 10 años.\nEl menor no puede acceder con bebidas y/o alimentos.\nEs indispensable que el menor siga las indicaciones del personal\, de lo contrario el servicio puede verse interrumpido para dicho menor.
URL:https://www.zentrika.com/evento/ludoteca-zentrika-domingo1septiembre24/
LOCATION:Zona Gourmet\, Ludoteca
CATEGORIES:Actividades infantiles
END:VEVENT
BEGIN:VEVENT
DTSTART;TZID=America/Mexico_City:20240907T130000
DTEND;TZID=America/Mexico_City:20240907T180000
DTSTAMP:20260423T081319
CREATED:20240902T021504Z
LAST-MODIFIED:20240902T021504Z
UID:12574-1725714000-1725732000@www.zentrika.com
SUMMARY:Ludoteca ZENTRIKA Sábado 7 de septiembre
DESCRIPTION:Ven con tus pequeños\, quienes pueden disfrutar de la Ludoteca ZENTRIKA. Un espacio pensado para su esparcimiento y desarrollo. Desde actividades artísticas como pintar\, hasta videojuegos. Seguro encontrarán algo que les guste y con lo que podrán divertirse en su fin de semana. \nÚnicamente te pedimos seguir estas indicaciones: \n\nEl acceso es totalmente gratuito\, el único requisito es venir acompañado de un mayor de edad\, quién hará el registro del menor.\nEl espacio está pensado para niños entre 3 y 10 años.\nEl menor no puede acceder con bebidas y/o alimentos.\nEs indispensable que el menor siga las indicaciones del personal\, de lo contrario el servicio puede verse interrumpido para dicho menor.
URL:https://www.zentrika.com/evento/ludoteca-zentrika-sabado7septiembre/
LOCATION:Zona Gourmet\, Ludoteca
CATEGORIES:Actividades infantiles
END:VEVENT
BEGIN:VEVENT
DTSTART;TZID=America/Mexico_City:20240908T130000
DTEND;TZID=America/Mexico_City:20240908T180000
DTSTAMP:20260423T081319
CREATED:20240902T021551Z
LAST-MODIFIED:20240902T021551Z
UID:12573-1725800400-1725818400@www.zentrika.com
SUMMARY:Ludoteca ZENTRIKA Domingo 8 de Septiembre
DESCRIPTION:Ven con tus pequeños\, quienes pueden disfrutar de la Ludoteca ZENTRIKA. Un espacio pensado para su esparcimiento y desarrollo. Desde actividades artísticas como pintar\, hasta videojuegos. Seguro encontrarán algo que les guste y con lo que podrán divertirse en su fin de semana. \nÚnicamente te pedimos seguir estas indicaciones: \n\nEl acceso es totalmente gratuito\, el único requisito es venir acompañado de un mayor de edad\, quién hará el registro del menor.\nEl espacio está pensado para niños entre 3 y 10 años.\nEl menor no puede acceder con bebidas y/o alimentos.\nEs indispensable que el menor siga las indicaciones del personal\, de lo contrario el servicio puede verse interrumpido para dicho menor.
URL:https://www.zentrika.com/evento/ludoteca-zentrika-domingo8septiembre24/
LOCATION:Zona Gourmet\, Ludoteca
CATEGORIES:Actividades infantiles
END:VEVENT
BEGIN:VEVENT
DTSTART;TZID=America/Mexico_City:20240914T130000
DTEND;TZID=America/Mexico_City:20240914T180000
DTSTAMP:20260423T081319
CREATED:20240908T221712Z
LAST-MODIFIED:20240908T223127Z
UID:12597-1726318800-1726336800@www.zentrika.com
SUMMARY:Ludoteca ZENTRIKA Sábado 14 de septiembre
DESCRIPTION:Ven con tus pequeños\, quienes pueden disfrutar de la Ludoteca ZENTRIKA. Un espacio pensado para su esparcimiento y desarrollo. Desde actividades artísticas como pintar\, hasta videojuegos. Seguro encontrarán algo que les guste y con lo que podrán divertirse en su fin de semana. \nÚnicamente te pedimos seguir estas indicaciones: \n\nEl acceso es totalmente gratuito\, el único requisito es venir acompañado de un mayor de edad\, quién hará el registro del menor.\nEl espacio está pensado para niños entre 3 y 10 años.\nEl menor no puede acceder con bebidas y/o alimentos.\nEs indispensable que el menor siga las indicaciones del personal\, de lo contrario el servicio puede verse interrumpido para dicho menor.
URL:https://www.zentrika.com/evento/ludoteca-zentrika-sabado14septiembre/
LOCATION:Zona Gourmet\, Ludoteca
CATEGORIES:Actividades infantiles
END:VEVENT
BEGIN:VEVENT
DTSTART;TZID=America/Mexico_City:20240915T130000
DTEND;TZID=America/Mexico_City:20240915T180000
DTSTAMP:20260423T081319
CREATED:20240908T223258Z
LAST-MODIFIED:20240908T223624Z
UID:12598-1726405200-1726423200@www.zentrika.com
SUMMARY:Ludoteca ZENTRIKA Domingo 15 de Septiembre
DESCRIPTION:Ven con tus pequeños\, quienes pueden disfrutar de la Ludoteca ZENTRIKA. Un espacio pensado para su esparcimiento y desarrollo. Desde actividades artísticas como pintar\, hasta videojuegos. Seguro encontrarán algo que les guste y con lo que podrán divertirse en su fin de semana. \nÚnicamente te pedimos seguir estas indicaciones: \n\nEl acceso es totalmente gratuito\, el único requisito es venir acompañado de un mayor de edad\, quién hará el registro del menor.\nEl espacio está pensado para niños entre 3 y 10 años.\nEl menor no puede acceder con bebidas y/o alimentos.\nEs indispensable que el menor siga las indicaciones del personal\, de lo contrario el servicio puede verse interrumpido para dicho menor.
URL:https://www.zentrika.com/evento/ludoteca-zentrika-domingo15septiembre24/
LOCATION:Zona Gourmet\, Ludoteca
CATEGORIES:Actividades infantiles
END:VEVENT
BEGIN:VEVENT
DTSTART;TZID=America/Mexico_City:20240921T130000
DTEND;TZID=America/Mexico_City:20240921T180000
DTSTAMP:20260423T081319
CREATED:20240908T223438Z
LAST-MODIFIED:20240908T223438Z
UID:12601-1726923600-1726941600@www.zentrika.com
SUMMARY:Ludoteca ZENTRIKA Sábado 21 de septiembre
DESCRIPTION:Ven con tus pequeños\, quienes pueden disfrutar de la Ludoteca ZENTRIKA. Un espacio pensado para su esparcimiento y desarrollo. Desde actividades artísticas como pintar\, hasta videojuegos. Seguro encontrarán algo que les guste y con lo que podrán divertirse en su fin de semana. \nÚnicamente te pedimos seguir estas indicaciones: \n\nEl acceso es totalmente gratuito\, el único requisito es venir acompañado de un mayor de edad\, quién hará el registro del menor.\nEl espacio está pensado para niños entre 3 y 10 años.\nEl menor no puede acceder con bebidas y/o alimentos.\nEs indispensable que el menor siga las indicaciones del personal\, de lo contrario el servicio puede verse interrumpido para dicho menor.
URL:https://www.zentrika.com/evento/ludoteca-zentrika-sabado21septiembre/
LOCATION:Zona Gourmet\, Ludoteca
CATEGORIES:Actividades infantiles
END:VEVENT
BEGIN:VEVENT
DTSTART;TZID=America/Mexico_City:20240922T130000
DTEND;TZID=America/Mexico_City:20240922T180000
DTSTAMP:20260423T081319
CREATED:20240908T223548Z
LAST-MODIFIED:20240908T223548Z
UID:12602-1727010000-1727028000@www.zentrika.com
SUMMARY:Ludoteca ZENTRIKA Domingo 22 de Septiembre
DESCRIPTION:Ven con tus pequeños\, quienes pueden disfrutar de la Ludoteca ZENTRIKA. Un espacio pensado para su esparcimiento y desarrollo. Desde actividades artísticas como pintar\, hasta videojuegos. Seguro encontrarán algo que les guste y con lo que podrán divertirse en su fin de semana. \nÚnicamente te pedimos seguir estas indicaciones: \n\nEl acceso es totalmente gratuito\, el único requisito es venir acompañado de un mayor de edad\, quién hará el registro del menor.\nEl espacio está pensado para niños entre 3 y 10 años.\nEl menor no puede acceder con bebidas y/o alimentos.\nEs indispensable que el menor siga las indicaciones del personal\, de lo contrario el servicio puede verse interrumpido para dicho menor.
URL:https://www.zentrika.com/evento/ludoteca-zentrika-domingo22septiembre24/
LOCATION:Zona Gourmet\, Ludoteca
CATEGORIES:Actividades infantiles
END:VEVENT
BEGIN:VEVENT
DTSTART;TZID=America/Mexico_City:20240928T130000
DTEND;TZID=America/Mexico_City:20240928T180000
DTSTAMP:20260423T081319
CREATED:20240908T223752Z
LAST-MODIFIED:20240908T223752Z
UID:12606-1727528400-1727546400@www.zentrika.com
SUMMARY:Ludoteca ZENTRIKA Sábado 28 de septiembre
DESCRIPTION:Ven con tus pequeños\, quienes pueden disfrutar de la Ludoteca ZENTRIKA. Un espacio pensado para su esparcimiento y desarrollo. Desde actividades artísticas como pintar\, hasta videojuegos. Seguro encontrarán algo que les guste y con lo que podrán divertirse en su fin de semana. \nÚnicamente te pedimos seguir estas indicaciones: \n\nEl acceso es totalmente gratuito\, el único requisito es venir acompañado de un mayor de edad\, quién hará el registro del menor.\nEl espacio está pensado para niños entre 3 y 10 años.\nEl menor no puede acceder con bebidas y/o alimentos.\nEs indispensable que el menor siga las indicaciones del personal\, de lo contrario el servicio puede verse interrumpido para dicho menor.
URL:https://www.zentrika.com/evento/ludoteca-zentrika-sabado28septiembre/
LOCATION:Zona Gourmet\, Ludoteca
CATEGORIES:Actividades infantiles
END:VEVENT
BEGIN:VEVENT
DTSTART;TZID=America/Mexico_City:20240929T130000
DTEND;TZID=America/Mexico_City:20240929T180000
DTSTAMP:20260423T081319
CREATED:20240908T223910Z
LAST-MODIFIED:20240908T223910Z
UID:12607-1727614800-1727632800@www.zentrika.com
SUMMARY:Ludoteca ZENTRIKA Domingo 29 de Septiembre
DESCRIPTION:Ven con tus pequeños\, quienes pueden disfrutar de la Ludoteca ZENTRIKA. Un espacio pensado para su esparcimiento y desarrollo. Desde actividades artísticas como pintar\, hasta videojuegos. Seguro encontrarán algo que les guste y con lo que podrán divertirse en su fin de semana. \nÚnicamente te pedimos seguir estas indicaciones: \n\nEl acceso es totalmente gratuito\, el único requisito es venir acompañado de un mayor de edad\, quién hará el registro del menor.\nEl espacio está pensado para niños entre 3 y 10 años.\nEl menor no puede acceder con bebidas y/o alimentos.\nEs indispensable que el menor siga las indicaciones del personal\, de lo contrario el servicio puede verse interrumpido para dicho menor.
URL:https://www.zentrika.com/evento/ludoteca-zentrika-domingo29septiembre24/
LOCATION:Zona Gourmet\, Ludoteca
CATEGORIES:Actividades infantiles
END:VEVENT
END:VCALENDAR