BEGIN:VCALENDAR
VERSION:2.0
PRODID:-//Zentrika - Centro Comercial - ECPv6.15.15//NONSGML v1.0//EN
CALSCALE:GREGORIAN
METHOD:PUBLISH
X-ORIGINAL-URL:https://www.zentrika.com
X-WR-CALDESC:Eventos para Zentrika - Centro Comercial
REFRESH-INTERVAL;VALUE=DURATION:PT1H
X-Robots-Tag:noindex
X-PUBLISHED-TTL:PT1H
BEGIN:VTIMEZONE
TZID:America/Mexico_City
BEGIN:STANDARD
TZOFFSETFROM:-0600
TZOFFSETTO:-0600
TZNAME:CST
DTSTART:20230101T000000
END:STANDARD
END:VTIMEZONE
BEGIN:VEVENT
DTSTART;TZID=America/Mexico_City:20241005T130000
DTEND;TZID=America/Mexico_City:20241005T180000
DTSTAMP:20260423T063122
CREATED:20241001T193455Z
LAST-MODIFIED:20241001T193455Z
UID:12650-1728133200-1728151200@www.zentrika.com
SUMMARY:Ludoteca ZENTRIKA Sábado 5 de Octubre
DESCRIPTION:Ven con tus pequeños\, quienes pueden disfrutar de la Ludoteca ZENTRIKA. Un espacio pensado para su esparcimiento y desarrollo. Desde actividades artísticas como pintar\, hasta videojuegos. Seguro encontrarán algo que les guste y con lo que podrán divertirse en su fin de semana. \nÚnicamente te pedimos seguir estas indicaciones: \n\nEl acceso es totalmente gratuito\, el único requisito es venir acompañado de un mayor de edad\, quién hará el registro del menor.\nEl espacio está pensado para niños entre 3 y 10 años.\nEl menor no puede acceder con bebidas y/o alimentos.\nEs indispensable que el menor siga las indicaciones del personal\, de lo contrario el servicio puede verse interrumpido para dicho menor.
URL:https://www.zentrika.com/evento/ludoteca-zentrika-sabado05octubre24/
LOCATION:Zona Gourmet\, Ludoteca
CATEGORIES:Actividades infantiles
END:VEVENT
BEGIN:VEVENT
DTSTART;TZID=America/Mexico_City:20241006T130000
DTEND;TZID=America/Mexico_City:20241006T180000
DTSTAMP:20260423T063122
CREATED:20241001T193321Z
LAST-MODIFIED:20241001T193321Z
UID:12649-1728219600-1728237600@www.zentrika.com
SUMMARY:Ludoteca ZENTRIKA Domingo 6 de Octubre
DESCRIPTION:Ven con tus pequeños\, quienes pueden disfrutar de la Ludoteca ZENTRIKA. Un espacio pensado para su esparcimiento y desarrollo. Desde actividades artísticas como pintar\, hasta videojuegos. Seguro encontrarán algo que les guste y con lo que podrán divertirse en su fin de semana. \nÚnicamente te pedimos seguir estas indicaciones: \n\nEl acceso es totalmente gratuito\, el único requisito es venir acompañado de un mayor de edad\, quién hará el registro del menor.\nEl espacio está pensado para niños entre 3 y 10 años.\nEl menor no puede acceder con bebidas y/o alimentos.\nEs indispensable que el menor siga las indicaciones del personal\, de lo contrario el servicio puede verse interrumpido para dicho menor.
URL:https://www.zentrika.com/evento/ludoteca-zentrika-domingo06octubre24/
LOCATION:Zona Gourmet\, Ludoteca
CATEGORIES:Actividades infantiles
END:VEVENT
BEGIN:VEVENT
DTSTART;TZID=America/Mexico_City:20241012T130000
DTEND;TZID=America/Mexico_City:20241012T180000
DTSTAMP:20260423T063122
CREATED:20241007T202950Z
LAST-MODIFIED:20241007T202950Z
UID:12666-1728738000-1728756000@www.zentrika.com
SUMMARY:Ludoteca ZENTRIKA Sábado 12 de Octubre
DESCRIPTION:Ven con tus pequeños\, quienes pueden disfrutar de la Ludoteca ZENTRIKA. Un espacio pensado para su esparcimiento y desarrollo. Desde actividades artísticas como pintar\, hasta videojuegos. Seguro encontrarán algo que les guste y con lo que podrán divertirse en su fin de semana. \nÚnicamente te pedimos seguir estas indicaciones: \n\nEl acceso es totalmente gratuito\, el único requisito es venir acompañado de un mayor de edad\, quién hará el registro del menor.\nEl espacio está pensado para niños entre 3 y 10 años.\nEl menor no puede acceder con bebidas y/o alimentos.\nEs indispensable que el menor siga las indicaciones del personal\, de lo contrario el servicio puede verse interrumpido para dicho menor.
URL:https://www.zentrika.com/evento/ludoteca-zentrika-sabado12octubre24/
LOCATION:Zona Gourmet\, Ludoteca
CATEGORIES:Actividades infantiles
END:VEVENT
BEGIN:VEVENT
DTSTART;TZID=America/Mexico_City:20241013T130000
DTEND;TZID=America/Mexico_City:20241013T180000
DTSTAMP:20260423T063122
CREATED:20241007T203130Z
LAST-MODIFIED:20241007T203130Z
UID:12667-1728824400-1728842400@www.zentrika.com
SUMMARY:Ludoteca ZENTRIKA Domingo 13 de Octubre
DESCRIPTION:Ven con tus pequeños\, quienes pueden disfrutar de la Ludoteca ZENTRIKA. Un espacio pensado para su esparcimiento y desarrollo. Desde actividades artísticas como pintar\, hasta videojuegos. Seguro encontrarán algo que les guste y con lo que podrán divertirse en su fin de semana. \nÚnicamente te pedimos seguir estas indicaciones: \n\nEl acceso es totalmente gratuito\, el único requisito es venir acompañado de un mayor de edad\, quién hará el registro del menor.\nEl espacio está pensado para niños entre 3 y 10 años.\nEl menor no puede acceder con bebidas y/o alimentos.\nEs indispensable que el menor siga las indicaciones del personal\, de lo contrario el servicio puede verse interrumpido para dicho menor.
URL:https://www.zentrika.com/evento/ludoteca-zentrika-domingo13octubre24/
LOCATION:Zona Gourmet\, Ludoteca
CATEGORIES:Actividades infantiles
END:VEVENT
BEGIN:VEVENT
DTSTART;TZID=America/Mexico_City:20241019T130000
DTEND;TZID=America/Mexico_City:20241019T180000
DTSTAMP:20260423T063122
CREATED:20241007T203241Z
LAST-MODIFIED:20241007T203241Z
UID:12669-1729342800-1729360800@www.zentrika.com
SUMMARY:Ludoteca ZENTRIKA Sábado 19 de Octubre
DESCRIPTION:Ven con tus pequeños\, quienes pueden disfrutar de la Ludoteca ZENTRIKA. Un espacio pensado para su esparcimiento y desarrollo. Desde actividades artísticas como pintar\, hasta videojuegos. Seguro encontrarán algo que les guste y con lo que podrán divertirse en su fin de semana. \nÚnicamente te pedimos seguir estas indicaciones: \n\nEl acceso es totalmente gratuito\, el único requisito es venir acompañado de un mayor de edad\, quién hará el registro del menor.\nEl espacio está pensado para niños entre 3 y 10 años.\nEl menor no puede acceder con bebidas y/o alimentos.\nEs indispensable que el menor siga las indicaciones del personal\, de lo contrario el servicio puede verse interrumpido para dicho menor.
URL:https://www.zentrika.com/evento/ludoteca-zentrika-sabado19octubre24/
LOCATION:Zona Gourmet\, Ludoteca
CATEGORIES:Actividades infantiles
END:VEVENT
BEGIN:VEVENT
DTSTART;TZID=America/Mexico_City:20241020T130000
DTEND;TZID=America/Mexico_City:20241020T180000
DTSTAMP:20260423T063122
CREATED:20241007T203451Z
LAST-MODIFIED:20241007T203451Z
UID:12671-1729429200-1729447200@www.zentrika.com
SUMMARY:Ludoteca ZENTRIKA Domingo 20 de Octubre
DESCRIPTION:Ven con tus pequeños\, quienes pueden disfrutar de la Ludoteca ZENTRIKA. Un espacio pensado para su esparcimiento y desarrollo. Desde actividades artísticas como pintar\, hasta videojuegos. Seguro encontrarán algo que les guste y con lo que podrán divertirse en su fin de semana. \nÚnicamente te pedimos seguir estas indicaciones: \n\nEl acceso es totalmente gratuito\, el único requisito es venir acompañado de un mayor de edad\, quién hará el registro del menor.\nEl espacio está pensado para niños entre 3 y 10 años.\nEl menor no puede acceder con bebidas y/o alimentos.\nEs indispensable que el menor siga las indicaciones del personal\, de lo contrario el servicio puede verse interrumpido para dicho menor.
URL:https://www.zentrika.com/evento/ludoteca-zentrika-domingo20octubre24/
LOCATION:Zona Gourmet\, Ludoteca
CATEGORIES:Actividades infantiles
END:VEVENT
BEGIN:VEVENT
DTSTART;TZID=America/Mexico_City:20241026T130000
DTEND;TZID=America/Mexico_City:20241026T180000
DTSTAMP:20260423T063122
CREATED:20241027T173315Z
LAST-MODIFIED:20241027T173315Z
UID:12704-1729947600-1729965600@www.zentrika.com
SUMMARY:Ludoteca ZENTRIKA Sábado 26 de Octubre
DESCRIPTION:Ven con tus pequeños\, quienes pueden disfrutar de la Ludoteca ZENTRIKA. Un espacio pensado para su esparcimiento y desarrollo. Desde actividades artísticas como pintar\, hasta videojuegos. Seguro encontrarán algo que les guste y con lo que podrán divertirse en su fin de semana. \nÚnicamente te pedimos seguir estas indicaciones: \n\nEl acceso es totalmente gratuito\, el único requisito es venir acompañado de un mayor de edad\, quién hará el registro del menor.\nEl espacio está pensado para niños entre 3 y 10 años.\nEl menor no puede acceder con bebidas y/o alimentos.\nEs indispensable que el menor siga las indicaciones del personal\, de lo contrario el servicio puede verse interrumpido para dicho menor.
URL:https://www.zentrika.com/evento/ludoteca-zentrika-sabado26octubre24/
LOCATION:Zona Gourmet\, Ludoteca
CATEGORIES:Actividades infantiles
END:VEVENT
BEGIN:VEVENT
DTSTART;TZID=America/Mexico_City:20241027T130000
DTEND;TZID=America/Mexico_City:20241027T180000
DTSTAMP:20260423T063122
CREATED:20241027T173418Z
LAST-MODIFIED:20241027T173418Z
UID:12705-1730034000-1730052000@www.zentrika.com
SUMMARY:Ludoteca ZENTRIKA Domingo 27 de Octubre
DESCRIPTION:Ven con tus pequeños\, quienes pueden disfrutar de la Ludoteca ZENTRIKA. Un espacio pensado para su esparcimiento y desarrollo. Desde actividades artísticas como pintar\, hasta videojuegos. Seguro encontrarán algo que les guste y con lo que podrán divertirse en su fin de semana. \nÚnicamente te pedimos seguir estas indicaciones: \n\nEl acceso es totalmente gratuito\, el único requisito es venir acompañado de un mayor de edad\, quién hará el registro del menor.\nEl espacio está pensado para niños entre 3 y 10 años.\nEl menor no puede acceder con bebidas y/o alimentos.\nEs indispensable que el menor siga las indicaciones del personal\, de lo contrario el servicio puede verse interrumpido para dicho menor.
URL:https://www.zentrika.com/evento/ludoteca-zentrika-domingo27octubre24/
LOCATION:Zona Gourmet\, Ludoteca
CATEGORIES:Actividades infantiles
END:VEVENT
END:VCALENDAR