BEGIN:VCALENDAR
VERSION:2.0
PRODID:-//Zentrika - Centro Comercial - ECPv6.15.15//NONSGML v1.0//EN
CALSCALE:GREGORIAN
METHOD:PUBLISH
X-ORIGINAL-URL:https://www.zentrika.com
X-WR-CALDESC:Eventos para Zentrika - Centro Comercial
REFRESH-INTERVAL;VALUE=DURATION:PT1H
X-Robots-Tag:noindex
X-PUBLISHED-TTL:PT1H
BEGIN:VTIMEZONE
TZID:America/Mexico_City
BEGIN:STANDARD
TZOFFSETFROM:-0600
TZOFFSETTO:-0600
TZNAME:CST
DTSTART:20240101T000000
END:STANDARD
END:VTIMEZONE
BEGIN:VEVENT
DTSTART;TZID=America/Mexico_City:20250104T130000
DTEND;TZID=America/Mexico_City:20250104T180000
DTSTAMP:20260419T065505
CREATED:20241229T181116Z
LAST-MODIFIED:20241229T181833Z
UID:12888-1735995600-1736013600@www.zentrika.com
SUMMARY:Ludoteca ZENTRIKA Sábado 4 de Enero
DESCRIPTION:Ven con tus pequeños\, quienes pueden disfrutar de la Ludoteca ZENTRIKA. Un espacio pensado para su esparcimiento y desarrollo. Desde actividades artísticas como pintar\, hasta videojuegos. Seguro encontrarán algo que les guste y con lo que podrán divertirse en su fin de semana. \nÚnicamente te pedimos seguir estas indicaciones: \n\nEl acceso es totalmente gratuito\, el único requisito es venir acompañado de un mayor de edad\, quién hará el registro del menor.\nEl espacio está pensado para niños entre 3 y 10 años.\nEl menor no puede acceder con bebidas y/o alimentos.\nEs indispensable que el menor siga las indicaciones del personal\, de lo contrario el servicio puede verse interrumpido para dicho menor.
URL:https://www.zentrika.com/evento/ludoteca-zentrika-sabado04enero25/
LOCATION:Zona Gourmet\, Ludoteca
CATEGORIES:Actividades infantiles
END:VEVENT
BEGIN:VEVENT
DTSTART;TZID=America/Mexico_City:20250105T130000
DTEND;TZID=America/Mexico_City:20250105T180000
DTSTAMP:20260419T065505
CREATED:20241229T181937Z
LAST-MODIFIED:20241229T181937Z
UID:12889-1736082000-1736100000@www.zentrika.com
SUMMARY:Ludoteca ZENTRIKA Domingo 05 de Enero
DESCRIPTION:Ven con tus pequeños\, quienes pueden disfrutar de la Ludoteca ZENTRIKA. Un espacio pensado para su esparcimiento y desarrollo. Desde actividades artísticas como pintar\, hasta videojuegos. Seguro encontrarán algo que les guste y con lo que podrán divertirse en su fin de semana. \nÚnicamente te pedimos seguir estas indicaciones: \n\nEl acceso es totalmente gratuito\, el único requisito es venir acompañado de un mayor de edad\, quién hará el registro del menor.\nEl espacio está pensado para niños entre 3 y 10 años.\nEl menor no puede acceder con bebidas y/o alimentos.\nEs indispensable que el menor siga las indicaciones del personal\, de lo contrario el servicio puede verse interrumpido para dicho menor.
URL:https://www.zentrika.com/evento/ludoteca-zentrika-domingo05enero25/
LOCATION:Zona Gourmet\, Ludoteca
CATEGORIES:Actividades infantiles
END:VEVENT
BEGIN:VEVENT
DTSTART;TZID=America/Mexico_City:20250111T130000
DTEND;TZID=America/Mexico_City:20250111T180000
DTSTAMP:20260419T065505
CREATED:20250105T215728Z
LAST-MODIFIED:20250105T215728Z
UID:12899-1736600400-1736618400@www.zentrika.com
SUMMARY:Ludoteca ZENTRIKA Sábado 11 de Enero
DESCRIPTION:Ven con tus pequeños\, quienes pueden disfrutar de la Ludoteca ZENTRIKA. Un espacio pensado para su esparcimiento y desarrollo. Desde actividades artísticas como pintar\, hasta videojuegos. Seguro encontrarán algo que les guste y con lo que podrán divertirse en su fin de semana. \nÚnicamente te pedimos seguir estas indicaciones: \n\nEl acceso es totalmente gratuito\, el único requisito es venir acompañado de un mayor de edad\, quién hará el registro del menor.\nEl espacio está pensado para niños entre 3 y 10 años.\nEl menor no puede acceder con bebidas y/o alimentos.\nEs indispensable que el menor siga las indicaciones del personal\, de lo contrario el servicio puede verse interrumpido para dicho menor.
URL:https://www.zentrika.com/evento/ludoteca-zentrika-sabado11enero25/
LOCATION:Zona Gourmet\, Ludoteca
CATEGORIES:Actividades infantiles
END:VEVENT
BEGIN:VEVENT
DTSTART;TZID=America/Mexico_City:20250112T130000
DTEND;TZID=America/Mexico_City:20250112T180000
DTSTAMP:20260419T065505
CREATED:20250105T215851Z
LAST-MODIFIED:20250105T215851Z
UID:12904-1736686800-1736704800@www.zentrika.com
SUMMARY:Ludoteca ZENTRIKA Domingo 12 de Enero
DESCRIPTION:Ven con tus pequeños\, quienes pueden disfrutar de la Ludoteca ZENTRIKA. Un espacio pensado para su esparcimiento y desarrollo. Desde actividades artísticas como pintar\, hasta videojuegos. Seguro encontrarán algo que les guste y con lo que podrán divertirse en su fin de semana. \nÚnicamente te pedimos seguir estas indicaciones: \n\nEl acceso es totalmente gratuito\, el único requisito es venir acompañado de un mayor de edad\, quién hará el registro del menor.\nEl espacio está pensado para niños entre 3 y 10 años.\nEl menor no puede acceder con bebidas y/o alimentos.\nEs indispensable que el menor siga las indicaciones del personal\, de lo contrario el servicio puede verse interrumpido para dicho menor.
URL:https://www.zentrika.com/evento/ludoteca-zentrika-domingo12enero25/
LOCATION:Zona Gourmet\, Ludoteca
CATEGORIES:Actividades infantiles
END:VEVENT
BEGIN:VEVENT
DTSTART;TZID=America/Mexico_City:20250118T130000
DTEND;TZID=America/Mexico_City:20250118T180000
DTSTAMP:20260419T065505
CREATED:20250105T220405Z
LAST-MODIFIED:20250105T220433Z
UID:12903-1737205200-1737223200@www.zentrika.com
SUMMARY:Ludoteca ZENTRIKA Sábado 18 de Enero
DESCRIPTION:Ven con tus pequeños\, quienes pueden disfrutar de la Ludoteca ZENTRIKA. Un espacio pensado para su esparcimiento y desarrollo. Desde actividades artísticas como pintar\, hasta videojuegos. Seguro encontrarán algo que les guste y con lo que podrán divertirse en su fin de semana. \nÚnicamente te pedimos seguir estas indicaciones: \n\nEl acceso es totalmente gratuito\, el único requisito es venir acompañado de un mayor de edad\, quién hará el registro del menor.\nEl espacio está pensado para niños entre 3 y 10 años.\nEl menor no puede acceder con bebidas y/o alimentos.\nEs indispensable que el menor siga las indicaciones del personal\, de lo contrario el servicio puede verse interrumpido para dicho menor.
URL:https://www.zentrika.com/evento/ludoteca-zentrika-sabado18enero25/
LOCATION:Zona Gourmet\, Ludoteca
CATEGORIES:Actividades infantiles
END:VEVENT
BEGIN:VEVENT
DTSTART;TZID=America/Mexico_City:20250119T130000
DTEND;TZID=America/Mexico_City:20250119T180000
DTSTAMP:20260419T065505
CREATED:20250105T220625Z
LAST-MODIFIED:20250105T220625Z
UID:12902-1737291600-1737309600@www.zentrika.com
SUMMARY:Ludoteca ZENTRIKA Domingo 19 de Enero
DESCRIPTION:Ven con tus pequeños\, quienes pueden disfrutar de la Ludoteca ZENTRIKA. Un espacio pensado para su esparcimiento y desarrollo. Desde actividades artísticas como pintar\, hasta videojuegos. Seguro encontrarán algo que les guste y con lo que podrán divertirse en su fin de semana. \nÚnicamente te pedimos seguir estas indicaciones: \n\nEl acceso es totalmente gratuito\, el único requisito es venir acompañado de un mayor de edad\, quién hará el registro del menor.\nEl espacio está pensado para niños entre 3 y 10 años.\nEl menor no puede acceder con bebidas y/o alimentos.\nEs indispensable que el menor siga las indicaciones del personal\, de lo contrario el servicio puede verse interrumpido para dicho menor.
URL:https://www.zentrika.com/evento/ludoteca-zentrika-domingo19enero25/
LOCATION:Zona Gourmet\, Ludoteca
CATEGORIES:Actividades infantiles
END:VEVENT
BEGIN:VEVENT
DTSTART;TZID=America/Mexico_City:20250125T130000
DTEND;TZID=America/Mexico_City:20250125T180000
DTSTAMP:20260419T065505
CREATED:20250105T220738Z
LAST-MODIFIED:20250105T220738Z
UID:12901-1737810000-1737828000@www.zentrika.com
SUMMARY:Ludoteca ZENTRIKA Sábado 25 de Enero
DESCRIPTION:Ven con tus pequeños\, quienes pueden disfrutar de la Ludoteca ZENTRIKA. Un espacio pensado para su esparcimiento y desarrollo. Desde actividades artísticas como pintar\, hasta videojuegos. Seguro encontrarán algo que les guste y con lo que podrán divertirse en su fin de semana. \nÚnicamente te pedimos seguir estas indicaciones: \n\nEl acceso es totalmente gratuito\, el único requisito es venir acompañado de un mayor de edad\, quién hará el registro del menor.\nEl espacio está pensado para niños entre 3 y 10 años.\nEl menor no puede acceder con bebidas y/o alimentos.\nEs indispensable que el menor siga las indicaciones del personal\, de lo contrario el servicio puede verse interrumpido para dicho menor.
URL:https://www.zentrika.com/evento/ludoteca-zentrika-sabado25enero25/
LOCATION:Zona Gourmet\, Ludoteca
CATEGORIES:Actividades infantiles
END:VEVENT
BEGIN:VEVENT
DTSTART;TZID=America/Mexico_City:20250126T130000
DTEND;TZID=America/Mexico_City:20250126T180000
DTSTAMP:20260419T065505
CREATED:20250105T221259Z
LAST-MODIFIED:20250105T221259Z
UID:12900-1737896400-1737914400@www.zentrika.com
SUMMARY:Ludoteca ZENTRIKA Domingo 26 de Enero
DESCRIPTION:Ven con tus pequeños\, quienes pueden disfrutar de la Ludoteca ZENTRIKA. Un espacio pensado para su esparcimiento y desarrollo. Desde actividades artísticas como pintar\, hasta videojuegos. Seguro encontrarán algo que les guste y con lo que podrán divertirse en su fin de semana. \nÚnicamente te pedimos seguir estas indicaciones: \n\nEl acceso es totalmente gratuito\, el único requisito es venir acompañado de un mayor de edad\, quién hará el registro del menor.\nEl espacio está pensado para niños entre 3 y 10 años.\nEl menor no puede acceder con bebidas y/o alimentos.\nEs indispensable que el menor siga las indicaciones del personal\, de lo contrario el servicio puede verse interrumpido para dicho menor.
URL:https://www.zentrika.com/evento/ludoteca-zentrika-domingo26enero25/
LOCATION:Zona Gourmet\, Ludoteca
CATEGORIES:Actividades infantiles
END:VEVENT
END:VCALENDAR