BEGIN:VCALENDAR
VERSION:2.0
PRODID:-//Zentrika - Centro Comercial - ECPv6.15.15//NONSGML v1.0//EN
CALSCALE:GREGORIAN
METHOD:PUBLISH
X-ORIGINAL-URL:https://www.zentrika.com
X-WR-CALDESC:Eventos para Zentrika - Centro Comercial
REFRESH-INTERVAL;VALUE=DURATION:PT1H
X-Robots-Tag:noindex
X-PUBLISHED-TTL:PT1H
BEGIN:VTIMEZONE
TZID:America/Mexico_City
BEGIN:STANDARD
TZOFFSETFROM:-0600
TZOFFSETTO:-0600
TZNAME:CST
DTSTART:20230101T000000
END:STANDARD
END:VTIMEZONE
BEGIN:VEVENT
DTSTART;TZID=America/Mexico_City:20240317T130000
DTEND;TZID=America/Mexico_City:20240317T180000
DTSTAMP:20260423T192417
CREATED:20240311T024305Z
LAST-MODIFIED:20240316T031711Z
UID:11947-1710680400-1710698400@www.zentrika.com
SUMMARY:Ludoteca PRIMAVERA EN ZENTRIKA Domingo 17 de Marzo
DESCRIPTION:La experiencia PRIMAVERA EN ZENTRIKA es todo lo que la ludoteca ofrece con un toque distinto para que tus hijos e hijas pasen una experiencia inolvidable. \nPara comenzar podrán unirse a la actividad «Cajitas de primavera»\, donde podran generar sus propias cajitas alusivas a la primavera con distintos materiales; desarrollando su creatividad y gusto por las manualidades. \nTambién podrán participar en «Buscando huevos en el huerto» donde los niños recibirán una carta de Conejín\, donde les ayudará con pistas para encontrar los huevos que se encuentran en el espacio de la Ludoteca. Con distintas actividades recibiran más pistas que les permitirán encontrar los huevos que contienen premios especiales. \nVen con tus pequeños a disfrutar de la Ludoteca ZENTRIKA. Un espacio pensado para su esparcimiento y desarrollo. Desde actividades artísticas como pintar\, hasta videojuegos. Seguro encontrarán algo que les guste y con lo que podrán divertirse en su fin de semana. \nÚnicamente te pedimos seguir estas indicaciones: \n\nEl acceso es totalmente gratuito\, el único requisito es venir acompañado de un mayor de edad\, quién hará el registro del menor.\nEl espacio está pensado para niños entre 3 y 10 años.\nEl menor no puede acceder con bebidas y/o alimentos.\nEs indispensable que el menor siga las indicaciones del personal\, de lo contrario el servicio puede verse interrumpido para dicho menor.
URL:https://www.zentrika.com/evento/ludoteca-zentrika-domingo17mar24/
LOCATION:Zona Gourmet\, Ludoteca
CATEGORIES:Actividades infantiles
END:VEVENT
END:VCALENDAR