BEGIN:VCALENDAR
VERSION:2.0
PRODID:-//Zentrika - Centro Comercial - ECPv6.15.15//NONSGML v1.0//EN
CALSCALE:GREGORIAN
METHOD:PUBLISH
X-ORIGINAL-URL:https://www.zentrika.com
X-WR-CALDESC:Eventos para Zentrika - Centro Comercial
REFRESH-INTERVAL;VALUE=DURATION:PT1H
X-Robots-Tag:noindex
X-PUBLISHED-TTL:PT1H
BEGIN:VTIMEZONE
TZID:America/Mexico_City
BEGIN:STANDARD
TZOFFSETFROM:-0600
TZOFFSETTO:-0600
TZNAME:CST
DTSTART:20230101T000000
END:STANDARD
END:VTIMEZONE
BEGIN:VEVENT
DTSTART;TZID=America/Mexico_City:20241103T130000
DTEND;TZID=America/Mexico_City:20241103T180000
DTSTAMP:20260423T063610
CREATED:20241027T225441Z
LAST-MODIFIED:20241030T184251Z
UID:12707-1730638800-1730656800@www.zentrika.com
SUMMARY:Ludoteca Día de Muertos ZENTRIKA Domingo 3 de Noviembre
DESCRIPTION:Ven con tus pequeños\, quienes pueden disfrutar de la Ludoteca ZENTRIKA. Un espacio pensado para su esparcimiento y desarrollo. \nEn esta ocasión será una ludoteca especial por Halloween y Día de Muertos. Habrá manualidades acordes a la temporada\, de igual forma pintacaritas y distintas actividades que les permitirá a tus pequeños disfrutar en grande el momento. \nÚnicamente te pedimos seguir estas indicaciones: \n\nEl acceso es totalmente gratuito\, el único requisito es venir acompañado de un mayor de edad\, quién hará el registro del menor.\nEl espacio está pensado para niños entre 3 y 10 años.\nEl menor no puede acceder con bebidas y/o alimentos.\nEs indispensable que el menor siga las indicaciones del personal\, de lo contrario el servicio puede verse interrumpido para dicho menor.
URL:https://www.zentrika.com/evento/ludoteca-zentrika-domingo03noviembre24-2/
CATEGORIES:Actividades infantiles
END:VEVENT
END:VCALENDAR